BEGIN:VCALENDAR
VERSION:2.0
PRODID:-//iLearnERP - ECPv6.15.18//NONSGML v1.0//EN
CALSCALE:GREGORIAN
METHOD:PUBLISH
X-WR-CALNAME:iLearnERP
X-ORIGINAL-URL:https://www.ilearnerp.com
X-WR-CALDESC:Events for iLearnERP
REFRESH-INTERVAL;VALUE=DURATION:PT1H
X-Robots-Tag:noindex
X-PUBLISHED-TTL:PT1H
BEGIN:VTIMEZONE
TZID:UTC
BEGIN:STANDARD
TZOFFSETFROM:+0000
TZOFFSETTO:+0000
TZNAME:UTC
DTSTART:20190101T000000
END:STANDARD
END:VTIMEZONE
BEGIN:VTIMEZONE
TZID:America/Denver
BEGIN:DAYLIGHT
TZOFFSETFROM:-0700
TZOFFSETTO:-0600
TZNAME:MDT
DTSTART:20140309T090000
END:DAYLIGHT
BEGIN:STANDARD
TZOFFSETFROM:-0600
TZOFFSETTO:-0700
TZNAME:MST
DTSTART:20141102T080000
END:STANDARD
BEGIN:DAYLIGHT
TZOFFSETFROM:-0700
TZOFFSETTO:-0600
TZNAME:MDT
DTSTART:20150308T090000
END:DAYLIGHT
BEGIN:STANDARD
TZOFFSETFROM:-0600
TZOFFSETTO:-0700
TZNAME:MST
DTSTART:20151101T080000
END:STANDARD
BEGIN:DAYLIGHT
TZOFFSETFROM:-0700
TZOFFSETTO:-0600
TZNAME:MDT
DTSTART:20160313T090000
END:DAYLIGHT
BEGIN:STANDARD
TZOFFSETFROM:-0600
TZOFFSETTO:-0700
TZNAME:MST
DTSTART:20161106T080000
END:STANDARD
END:VTIMEZONE
BEGIN:VEVENT
DTSTART;VALUE=DATE:20200406
DTEND;VALUE=DATE:20200410
DTSTAMP:20260424T115542
CREATED:20200327T221107Z
LAST-MODIFIED:20200327T222217Z
UID:20835-1586131200-1586476799@www.ilearnerp.com
SUMMARY:ReportsNow DAS University Webinars
DESCRIPTION:Every month we offer 10 hours of live webinar training to our DAS University subscribers. This month\, our sessions will be from April 6th – 9th. If you are a DAS University subscriber you can login here and click the Live Sessions menu to register. Interested in a subscription? Click here.
URL:https://www.ilearnerp.com/event/reportsnow-das-university-webinars/
LOCATION:Webinar
CATEGORIES:ReportsNow Webinars
END:VEVENT
BEGIN:VEVENT
DTSTART;TZID=America/Denver:20150810T090000
DTEND;TZID=America/Denver:20150815T110000
DTSTAMP:20260424T115542
CREATED:20150409T181546Z
LAST-MODIFIED:20150721T001659Z
UID:2099-1439197200-1439636400@www.ilearnerp.com
SUMMARY:ReportsNow Webinars
DESCRIPTION:For our ReportsNow DAS eLearning members we  deliver 10 hours of webinar training each month – this is a wonderful opportunity to get started with DAS\, refresh your skills or learn new advanced skills. Our introduction through advanced webinars are the same each month so that you can count on these sessions for new users and those users that need to advance their skills.  Features sessions explore popular\, advanced and new topics\, they are for designed for more experienced users\, they are different each month and they are recorded and posted on the website.  To register and view the full monthly schedule click here\, note you must be logged into DAS eLearning.
URL:https://www.ilearnerp.com/event/reportsnow-webinars-3/
LOCATION:Web
CATEGORIES:ReportsNow Webinars
ATTACH;FMTTYPE=image/png:https://www.ilearnerp.com/wp-content/uploads/2015/04/iLearn-DAS-Logo-Green-i-HiRes-1.png
END:VEVENT
BEGIN:VEVENT
DTSTART;TZID=America/Denver:20150706T090000
DTEND;TZID=America/Denver:20150711T110000
DTSTAMP:20260424T115542
CREATED:20150409T181624Z
LAST-MODIFIED:20150409T181624Z
UID:2100-1436173200-1436612400@www.ilearnerp.com
SUMMARY:ReportsNow Webinars
DESCRIPTION:For our ReportsNow DAS eLearning members we  deliver 10 hours of webinar training each month – this is a wonderful opportunity to get started with DAS\, refresh your skills or learn new advanced skills. Our introduction through advanced webinars are the same each month so that you can count on these sessions for new users and those users that need to advance their skills.  Features sessions explore popular\, advanced and new topics\, they are for designed for more experienced users\, they are different each month and they are recorded and posted on the website.  To register and view the full monthly schedule click here\, note you must be logged into DAS eLearning.
URL:https://www.ilearnerp.com/event/reportsnow-webinars-4/
LOCATION:Web
CATEGORIES:ReportsNow Webinars
ATTACH;FMTTYPE=image/jpeg:https://www.ilearnerp.com/wp-content/uploads/2015/04/iLearn-DAS-Logo-e1428581606603.jpg
END:VEVENT
BEGIN:VEVENT
DTSTART;TZID=America/Denver:20150608T090000
DTEND;TZID=America/Denver:20150613T110000
DTSTAMP:20260424T115542
CREATED:20150409T181519Z
LAST-MODIFIED:20150409T181519Z
UID:2098-1433754000-1434193200@www.ilearnerp.com
SUMMARY:ReportsNow Webinars
DESCRIPTION:For our ReportsNow DAS eLearning members we  deliver 10 hours of webinar training each month – this is a wonderful opportunity to get started with DAS\, refresh your skills or learn new advanced skills. Our introduction through advanced webinars are the same each month so that you can count on these sessions for new users and those users that need to advance their skills.  Features sessions explore popular\, advanced and new topics\, they are for designed for more experienced users\, they are different each month and they are recorded and posted on the website.  To register and view the full monthly schedule click here\, note you must be logged into DAS eLearning.
URL:https://www.ilearnerp.com/event/reportsnow-webinars-2/
LOCATION:Web
CATEGORIES:ReportsNow Webinars
ATTACH;FMTTYPE=image/jpeg:https://www.ilearnerp.com/wp-content/uploads/2015/04/iLearn-DAS-Logo-e1428581606603.jpg
END:VEVENT
BEGIN:VEVENT
DTSTART;TZID=America/Denver:20150504T090000
DTEND;TZID=America/Denver:20150509T110000
DTSTAMP:20260424T115542
CREATED:20150409T180310Z
LAST-MODIFIED:20150409T181353Z
UID:2094-1430730000-1431169200@www.ilearnerp.com
SUMMARY:ReportsNow Webinars
DESCRIPTION:For our ReportsNow DAS eLearning members we  deliver 10 hours of webinar training each month – this is a wonderful opportunity to get started with DAS\, refresh your skills or learn new advanced skills. Our introduction through advanced webinars are the same each month so that you can count on these sessions for new users and those users that need to advance their skills.  Features sessions explore popular\, advanced and new topics\, they are for designed for more experienced users\, they are different each month and they are recorded and posted on the website.  To register and view the full monthly schedule click here\, note you must be logged into DAS eLearning.
URL:https://www.ilearnerp.com/event/reportsnow-webinars/
LOCATION:Web
CATEGORIES:ReportsNow Webinars
ATTACH;FMTTYPE=image/jpeg:https://www.ilearnerp.com/wp-content/uploads/2015/04/iLearn-DAS-Logo-e1428581606603.jpg
END:VEVENT
END:VCALENDAR